BEGIN:VCALENDAR
VERSION:2.0
PRODID:-//Thomas More Lawyers’ Guild of Toronto - ECPv6.15.20//NONSGML v1.0//EN
CALSCALE:GREGORIAN
METHOD:PUBLISH
X-WR-CALNAME:Thomas More Lawyers’ Guild of Toronto
X-ORIGINAL-URL:https://thomasmoreguild.ca
X-WR-CALDESC:Events for Thomas More Lawyers’ Guild of Toronto
REFRESH-INTERVAL;VALUE=DURATION:PT1H
X-Robots-Tag:noindex
X-PUBLISHED-TTL:PT1H
BEGIN:VTIMEZONE
TZID:America/Toronto
BEGIN:DAYLIGHT
TZOFFSETFROM:-0500
TZOFFSETTO:-0400
TZNAME:EDT
DTSTART:20230312T070000
END:DAYLIGHT
BEGIN:STANDARD
TZOFFSETFROM:-0400
TZOFFSETTO:-0500
TZNAME:EST
DTSTART:20231105T060000
END:STANDARD
BEGIN:DAYLIGHT
TZOFFSETFROM:-0500
TZOFFSETTO:-0400
TZNAME:EDT
DTSTART:20240310T070000
END:DAYLIGHT
BEGIN:STANDARD
TZOFFSETFROM:-0400
TZOFFSETTO:-0500
TZNAME:EST
DTSTART:20241103T060000
END:STANDARD
BEGIN:DAYLIGHT
TZOFFSETFROM:-0500
TZOFFSETTO:-0400
TZNAME:EDT
DTSTART:20250309T070000
END:DAYLIGHT
BEGIN:STANDARD
TZOFFSETFROM:-0400
TZOFFSETTO:-0500
TZNAME:EST
DTSTART:20251102T060000
END:STANDARD
END:VTIMEZONE
BEGIN:VEVENT
DTSTART;TZID=America/Toronto:20241009T170000
DTEND;TZID=America/Toronto:20241009T230000
DTSTAMP:20260425T081450
CREATED:20240412T181907Z
LAST-MODIFIED:20250707T112351Z
UID:4310-1728493200-1728514800@thomasmoreguild.ca
SUMMARY:The 100th Anniversary of the Red Mass (Accredited for 1 LSO Professional Hour)
DESCRIPTION:Greetings\, Members and Friends of the Thomas More Lawyers’ Guild\, On behalf of the Board of Directors of the Thomas More Lawyers’ Guild of Toronto\, we warmly invite you to join us for a celebration of our Patron’s Feast Day. Each year\, the Guild honours St. Thomas More\, Patron Saint of Statesmen\, Politicians\, Judges\, and Lawyers\, with a special Mass and dinner. The Feast of St. Thomas More\, celebrated by the Holy Church alongside St. John Fisher each June 22\, this year we will gather on Wednesday\, June 24\, 2026\, for this cherished tradition. Please join us for Mass at 5:00 p.m. at Our Lady of Mount Carmel Church (202 St. Patrick St.\, Toronto)\, followed by the Guild’s Feast Day Dinner at the Royal Canadian Military Institute (RCMI). We encourage you to purchase your tickets early\, as space is limited. St. Thomas More Feast Day Dinner Date:  Wednesday\, June 24\, 2026 Reception: 6:00 p.m. Dinner: 6:45 p.m. Location: Royal Canadian Military Institute\, 426 University Avenue. Toronto\, Ontario  M5G 1S9 Guest Speaker: Nina Chung\, Founder and President of Elimu. Presentation: The Vision Behind Elimu and Its Benefits to the Community. We invite you to join us for an evening of faith\, fellowship\, and celebration as we honour the enduring legacy of St. Thomas More. Warm Regards\, Thomas More Lawyers’ Guild of Toronto 								\n				\n					\n		\n					\n		\n				\n						\n					\n			\n						\n				\n									       Nina Chung – Founder/President\, divides her time between Kenya and Canada. She mentors the Kenyan team in collaboration with the Executive Team and manages the liaison with the Canadian board of directors. She is responsible for Kenyan and international outreach for funding\, resource and partnership development. She left a successful business in Ottawa in 2004 to volunteer in Kenya. During that time\, she began assisting children with education and entrepreneurship training and established Elimu to make her projects sustainable. Nina has over 30 years’ experience in project management\, partnership development\, international marketing and business strategy planning. She worked over 14 years marketing international travel and cultural exchange programs for youth and students. In 1996\, she started a successful marketing consulting firm in Ottawa. She has lived and worked in a variety of cultural environments. Nina holds a Bachelor of Arts degree in Anthropology from the University of Western Ontario\, Canada. 								\n				\n				\n				\n					\n	\n\n		\n		\n		\n\n		\n\n		\n\n\n\n	Tickets\n\n		\n	\n	\n		The numbers below include tickets for this event already in your cart. Clicking "Get Tickets" will allow you to edit any existing attendee information as well as change ticket quantities.	\n\n\n		\n\n	\n		\n				June Feast Dinner Ticket	\n\n\n\n	\n		\n		$175.00			\n\n\n	\n\n\n	Unlimited\n	\n\n\n	\n\n\n	\n						\n	Decrease ticket quantity for June Feast Dinner Ticket\n	-\n				\n\n	\n		Quantity	\n	\n\n					\n	Increase ticket quantity for June Feast Dinner Ticket\n	+\n			\n\n	\n		\n	\n\n\n		\n\n	\n	\n	\n		Quantity:	\n	0\n\n\n	\n	\n		Total:	\n	\n		$0.00	\n\n\n	Get Tickets
URL:https://thomasmoreguild.ca/event/the-100th-anniversary-of-the-red-mass-accredited-for-1-lso-professional-hour/
LOCATION:The Omni King Edward Hotel\, 37 King Street East\, Toronto\, Ontario\, M5C 1 E9\, Canada
ATTACH;FMTTYPE=image/webp:https://thomasmoreguild.ca/wp-content/uploads/2023/08/thomas-more-home-page.webp
ORGANIZER;CN="Thomas More Lawyers%E2%80%99 Guild of Toronto":MAILTO:ThomasMore@zubco.com
END:VEVENT
BEGIN:VEVENT
DTSTART;TZID=America/Toronto:20240627T180000
DTEND;TZID=America/Toronto:20240627T220000
DTSTAMP:20260425T081450
CREATED:20240517T131145Z
LAST-MODIFIED:20250707T112357Z
UID:4390-1719511200-1719525600@thomasmoreguild.ca
SUMMARY:Thomas More Feast Day Dinner
DESCRIPTION:Greetings\, Members and Friends of the Thomas More Lawyers’ Guild\, On behalf of the Board of Directors of the Thomas More Lawyers’ Guild of Toronto\, we warmly invite you to join us for a celebration of our Patron’s Feast Day. Each year\, the Guild honours St. Thomas More\, Patron Saint of Statesmen\, Politicians\, Judges\, and Lawyers\, with a special Mass and dinner. The Feast of St. Thomas More\, celebrated by the Holy Church alongside St. John Fisher each June 22\, this year we will gather on Wednesday\, June 24\, 2026\, for this cherished tradition. Please join us for Mass at 5:00 p.m. at Our Lady of Mount Carmel Church (202 St. Patrick St.\, Toronto)\, followed by the Guild’s Feast Day Dinner at the Royal Canadian Military Institute (RCMI). We encourage you to purchase your tickets early\, as space is limited. St. Thomas More Feast Day Dinner Date:  Wednesday\, June 24\, 2026 Reception: 6:00 p.m. Dinner: 6:45 p.m. Location: Royal Canadian Military Institute\, 426 University Avenue. Toronto\, Ontario  M5G 1S9 Guest Speaker: Nina Chung\, Founder and President of Elimu. Presentation: The Vision Behind Elimu and Its Benefits to the Community. We invite you to join us for an evening of faith\, fellowship\, and celebration as we honour the enduring legacy of St. Thomas More. Warm Regards\, Thomas More Lawyers’ Guild of Toronto 								\n				\n					\n		\n					\n		\n				\n						\n					\n			\n						\n				\n									       Nina Chung – Founder/President\, divides her time between Kenya and Canada. She mentors the Kenyan team in collaboration with the Executive Team and manages the liaison with the Canadian board of directors. She is responsible for Kenyan and international outreach for funding\, resource and partnership development. She left a successful business in Ottawa in 2004 to volunteer in Kenya. During that time\, she began assisting children with education and entrepreneurship training and established Elimu to make her projects sustainable. Nina has over 30 years’ experience in project management\, partnership development\, international marketing and business strategy planning. She worked over 14 years marketing international travel and cultural exchange programs for youth and students. In 1996\, she started a successful marketing consulting firm in Ottawa. She has lived and worked in a variety of cultural environments. Nina holds a Bachelor of Arts degree in Anthropology from the University of Western Ontario\, Canada. 								\n				\n				\n				\n					\n	\n\n		\n		\n		\n\n		\n\n		\n\n\n\n	Tickets\n\n		\n	\n	\n		The numbers below include tickets for this event already in your cart. Clicking "Get Tickets" will allow you to edit any existing attendee information as well as change ticket quantities.	\n\n\n		\n\n	\n		\n				June Feast Dinner Ticket	\n\n\n\n	\n		\n		$175.00			\n\n\n	\n\n\n	Unlimited\n	\n\n\n	\n\n\n	\n					\n\n	\n		Quantity	\n	\n\n			\n\n	\n		\n	\n\n\n		\n\n	\n	\n	\n		Quantity:	\n	0\n\n\n	\n	\n		Total:	\n	\n		$0.00	\n\n\n	Get Tickets
URL:https://thomasmoreguild.ca/event/thomas-more-feast-day-dinner/
LOCATION:The National Club\, 303 Bay St.\, Toronto\, Ontario\, M5H 2R1\, Canada
ATTACH;FMTTYPE=image/jpeg:https://thomasmoreguild.ca/wp-content/uploads/2023/10/maxresdefault.jpg
ORGANIZER;CN="Thomas More Lawyers%E2%80%99 Guild of Toronto":MAILTO:ThomasMore@zubco.com
END:VEVENT
END:VCALENDAR