BEGIN:VCALENDAR
VERSION:2.0
PRODID:-//Thomas More Lawyers’ Guild of Toronto - ECPv6.15.20//NONSGML v1.0//EN
CALSCALE:GREGORIAN
METHOD:PUBLISH
X-WR-CALNAME:Thomas More Lawyers’ Guild of Toronto
X-ORIGINAL-URL:https://thomasmoreguild.ca
X-WR-CALDESC:Events for Thomas More Lawyers’ Guild of Toronto
REFRESH-INTERVAL;VALUE=DURATION:PT1H
X-Robots-Tag:noindex
X-PUBLISHED-TTL:PT1H
BEGIN:VTIMEZONE
TZID:America/Toronto
BEGIN:DAYLIGHT
TZOFFSETFROM:-0500
TZOFFSETTO:-0400
TZNAME:EDT
DTSTART:20250309T070000
END:DAYLIGHT
BEGIN:STANDARD
TZOFFSETFROM:-0400
TZOFFSETTO:-0500
TZNAME:EST
DTSTART:20251102T060000
END:STANDARD
BEGIN:DAYLIGHT
TZOFFSETFROM:-0500
TZOFFSETTO:-0400
TZNAME:EDT
DTSTART:20260308T070000
END:DAYLIGHT
BEGIN:STANDARD
TZOFFSETFROM:-0400
TZOFFSETTO:-0500
TZNAME:EST
DTSTART:20261101T060000
END:STANDARD
BEGIN:DAYLIGHT
TZOFFSETFROM:-0500
TZOFFSETTO:-0400
TZNAME:EDT
DTSTART:20270314T070000
END:DAYLIGHT
BEGIN:STANDARD
TZOFFSETFROM:-0400
TZOFFSETTO:-0500
TZNAME:EST
DTSTART:20271107T060000
END:STANDARD
END:VTIMEZONE
BEGIN:VEVENT
DTSTART;TZID=America/Toronto:20260624T180000
DTEND;TZID=America/Toronto:20260624T220000
DTSTAMP:20260425T113228
CREATED:20260424T125149Z
LAST-MODIFIED:20260424T125741Z
UID:6512-1782324000-1782338400@thomasmoreguild.ca
SUMMARY:Thomas More Feast Day Dinner (Wednesday\, June 24)
DESCRIPTION:Dear Members and Friends of the Thomas More Lawyers’ Guild of Toronto\, \nIt is with great pleasure and honour that we\, on behalf of the Board of Directors of the Guild\, extend our invitation to you to celebrate the 101st Anniversary of the Red Mass and the 60th Anniversary of the Thomas More Lawyers’ Guild of Toronto. \nThis significant event will take place at St. Michael’s Cathedral Basilica. The Red Mass marks the opening of the Courts and brings together members of the Ontario Judiciary\, lawyers\, and those associated with the administration of justice. Following the Red Mass\, we invite you to join us for a reception and dinner at the Omni King Edward Hotel (The Sovereign Ballroom). \nWe are thrilled to announce Cardinal Francis Leo as our distinguished Guest of Honour and Keynote Speaker for this memorable occasion.  \nWe are also pleased to welcome Mike Bassett\, author of Man in the Ditch\, who will be joining us as a featured speaker during the dinner.  \nWhen: Thursday\, September 4th\, 2025\, at 5:00 p.m. \nWhere: St. Michael’s Cathedral Basilica\, 65 Bond St.\, Toronto\, ON M5B 1X1 \nCelebrant: Cardinal Francis Leo \nReception and Dinner: 6:30 p.m. \nLocation: The Omni King Edward Hotel\, 37 King St E\, Toronto\, ON M5C 1E9 (The Sovereign Ballroom) \nGuest of Honour and Keynote Speaker: Cardinal Francis Leo \nTopic: The administration of Justice \nDress Code: Business Attire \nThis event is accredited for 1 LSO Professionalism Hour and 30 minutes of EDI. \nWe look forward to celebrating this milestone with you. \nP.S.: Tickets are available exclusively through our website.  \n**Membership in the Guild is not required to purchase a ticket for the Red Mass. \nWarm Regards\, \nThe Thomas More Lawyers’ Guild of Toronto \n\n\n\nTHE HISTORY OF THE RED MASS \nThe Thomas More Lawyers’ Guild of Toronto traces its history back to the 13th century with the initiation of the Red Mass. In the Cathedral of Paris in 1245\, a Mass was held to invoke the guidance of the Holy Spirit on the judges of the Ecclesiastical Courts. It is believed the first liturgy was celebrated in honour of St. Ives of Brittany\, the patron saint of lawyers. \nThe practice of the Red Mass spread to England in 1310 during the reign of King Edward I. The entire Bench and Bar attended this special Eucharist at the beginning of the spring term of Court. The name “Red Mass” became a tradition because of the red robes worn by the judges and the red vestments worn by the priests. \nThe Red Mass has been held annually in Westminster Cathedral\, London\, since 1904. It was first held in Toronto in 1925. Its sponsorship was assumed by the Guild of Our Lady of Good Counsel in 1931 and by the Thomas More Lawyers’ Guild of Toronto since 1968. One of the Guild’s primary objectives remains the sponsorship of the Red Mass. \n \n\n\n								\n				\n					\n		\n					\n		\n				\n						\n					\n			\n						\n				\n					\n	\n\n		\n		\n		\n\n		\n\n		\n\n\n\n	Tickets\n\n		\n	\n	\n		The numbers below include tickets for this event already in your cart. Clicking "Get Tickets" will allow you to edit any existing attendee information as well as change ticket quantities.	\n\n\n		\n		\n		\n	\n		Tickets are no longer available
URL:https://thomasmoreguild.ca/event/thomas-more-feast-day-dinner-wednesday-june-24/
LOCATION:Royal Canadian Military Institute\, 426 University Avenue\, Toronto\, Ontario\, M5G 1S9\, Canada
ATTACH;FMTTYPE=image/jpeg:https://thomasmoreguild.ca/wp-content/uploads/2023/10/maxresdefault.jpg
ORGANIZER;CN="Thomas More Lawyers%E2%80%99 Guild of Toronto":MAILTO:ThomasMore@zubco.com
END:VEVENT
END:VCALENDAR